BEGIN:VCALENDAR
VERSION:2.0
PRODID:-//CA Messtechnik - ECPv6.15.18//NONSGML v1.0//EN
CALSCALE:GREGORIAN
METHOD:PUBLISH
X-ORIGINAL-URL:https://ca-messtechnik.de
X-WR-CALDESC:Veranstaltungen für CA Messtechnik
REFRESH-INTERVAL;VALUE=DURATION:PT1H
X-Robots-Tag:noindex
X-PUBLISHED-TTL:PT1H
BEGIN:VTIMEZONE
TZID:Europe/Berlin
BEGIN:DAYLIGHT
TZOFFSETFROM:+0100
TZOFFSETTO:+0200
TZNAME:CEST
DTSTART:20240331T010000
END:DAYLIGHT
BEGIN:STANDARD
TZOFFSETFROM:+0200
TZOFFSETTO:+0100
TZNAME:CET
DTSTART:20241027T010000
END:STANDARD
BEGIN:DAYLIGHT
TZOFFSETFROM:+0100
TZOFFSETTO:+0200
TZNAME:CEST
DTSTART:20250330T010000
END:DAYLIGHT
BEGIN:STANDARD
TZOFFSETFROM:+0200
TZOFFSETTO:+0100
TZNAME:CET
DTSTART:20251026T010000
END:STANDARD
BEGIN:DAYLIGHT
TZOFFSETFROM:+0100
TZOFFSETTO:+0200
TZNAME:CEST
DTSTART:20260329T010000
END:DAYLIGHT
BEGIN:STANDARD
TZOFFSETFROM:+0200
TZOFFSETTO:+0100
TZNAME:CET
DTSTART:20261025T010000
END:STANDARD
BEGIN:DAYLIGHT
TZOFFSETFROM:+0100
TZOFFSETTO:+0200
TZNAME:CEST
DTSTART:20270328T010000
END:DAYLIGHT
BEGIN:STANDARD
TZOFFSETFROM:+0200
TZOFFSETTO:+0100
TZNAME:CET
DTSTART:20271031T010000
END:STANDARD
END:VTIMEZONE
BEGIN:VEVENT
DTSTART;TZID=Europe/Berlin:20260324T080000
DTEND;TZID=Europe/Berlin:20260327T160000
DTSTAMP:20260423T174643
CREATED:20260220T132218Z
LAST-MODIFIED:20260224T084245Z
UID:14585-1774339200-1774627200@ca-messtechnik.de
SUMMARY:analytica 2026
DESCRIPTION:
URL:https://ca-messtechnik.de/event/analytica-2026/
LOCATION:Messe München\, Am Messesee 2\, München\, Bayern\, 81829\, Germany
CATEGORIES:Messe
ORGANIZER;CN="Messe M%C3%BCnchen":MAILTO:info@messe-muenchen.de
END:VEVENT
BEGIN:VEVENT
DTSTART;TZID=Europe/Berlin:20251211T080000
DTEND;TZID=Europe/Berlin:20251211T170000
DTSTAMP:20260423T174643
CREATED:20241121T085216Z
LAST-MODIFIED:20250820T074006Z
UID:13322-1765440000-1765472400@ca-messtechnik.de
SUMMARY:Regenerative Energieträger in der Netzpraxis
DESCRIPTION:Jetzt anmeldenSeminarinhaltDas Seminar „Regenerative Energieträger in der Netzpraxis“ bietet eine umfassende und praxisnahe Einführung in die Netzqualität und Netzrückwirkungen\, die durch Anlagen zur Erzeugung regenerativer Energien entstehen. Mit dem Fokus auf Photovoltaik- (PV) und Windkraftanlagen sowie Ladestationen für Elektromobilität werden sowohl die technischen als auch die rechtlichen Aspekte beleuchtet.\nZu Beginn des Seminars werden die Grundlagen von Netzstörungen behandelt\, darunter Oberschwingungen\, Spannungsqualitätsmerkmale\, hochfrequente Störungen\, die Erhöhung der Gleichspannungsanteile im Netz sowie unsymmetrische Einspeisungen und Netzbelastungen. Anschließend werden spezifische Problemfelder von PV- und Windkraftanlagen sowie Ladestationen für E-Mobilität detailliert erläutert. Dies umfasst sowohl die rechtlichen Normen und Gesetze als auch den technischen Aufbau und typische Netzstörungen. \nEin weiterer Schwerpunkt liegt auf den optimalen Einstellungen an Netzanalysatoren bei der Fehlersuche. Die Teilnehmer lernen\, wie sie mit dem Power Quality Analyser Qualistar+ präzise Messungen durchführen und die Messergebnisse richtig interpretieren. Anhand konkreter Messbeispiele und technischer Empfehlungen wird das theoretische Wissen praktisch vertieft. \nLernzieleNach dem Seminar „Regenerative Energieträger in der Netzpraxis“ sind die Teilnehmer in der Lage\, die Auswirkungen von PV- und Windkraftanlagen sowie Ladestationen auf die Netzqualität zu beurteilen. \nSie beherrschen die Durchführung von Netzanalyse-Messungen mit dem Power Quality Analyser Qualistar+ und können die ermittelten Messwerte korrekt interpretieren. \nZudem kennen sie die rechtlichen Anforderungen und technischen Normen\, die für den Betrieb dieser Anlagen relevant sind\, und wissen\, wie typische Netzstörungen identifiziert und behoben werden können. \nZielgruppeDieses Seminar richtet sich an Elektrofachkräfte\, Techniker\, Ingenieure und alle\, die sich mit der Installation\, Wartung und Optimierung von Anlagen zur Erzeugung regenerativer Energien befassen. Es ist besonders geeignet für Personen\, die ein tiefgehendes Verständnis der Netzqualität in Zusammenhang mit PV- und Windkraftanlagen sowie Ladestationen für Elektromobilität erwerben möchten. \nZur Seminar-Anmeldung
URL:https://ca-messtechnik.de/event/regenerative-energietraeger-in-der-netzpraxis-4/
LOCATION:Raum Berlin
CATEGORIES:Seminar
ATTACH;FMTTYPE=image/webp:https://ca-messtechnik.de/wp-content/uploads/2024/05/NQRE-16-9.webp
ORGANIZER;CN="CHAUVIN ARNOUX":MAILTO:info@chauvin-arnoux.de
END:VEVENT
END:VCALENDAR